BEGIN:VCALENDAR
VERSION:2.0
PRODID:-//Centro Studi Cenresig Bologna - ECPv6.15.11//NONSGML v1.0//EN
CALSCALE:GREGORIAN
METHOD:PUBLISH
X-WR-CALNAME:Centro Studi Cenresig Bologna
X-ORIGINAL-URL:https://www.cenresig.org/final
X-WR-CALDESC:Eventi per Centro Studi Cenresig Bologna
REFRESH-INTERVAL;VALUE=DURATION:PT1H
X-Robots-Tag:noindex
X-PUBLISHED-TTL:PT1H
BEGIN:VTIMEZONE
TZID:Europe/Paris
BEGIN:DAYLIGHT
TZOFFSETFROM:+0100
TZOFFSETTO:+0200
TZNAME:CEST
DTSTART:20230326T010000
END:DAYLIGHT
BEGIN:STANDARD
TZOFFSETFROM:+0200
TZOFFSETTO:+0100
TZNAME:CET
DTSTART:20231029T010000
END:STANDARD
BEGIN:DAYLIGHT
TZOFFSETFROM:+0100
TZOFFSETTO:+0200
TZNAME:CEST
DTSTART:20240331T010000
END:DAYLIGHT
BEGIN:STANDARD
TZOFFSETFROM:+0200
TZOFFSETTO:+0100
TZNAME:CET
DTSTART:20241027T010000
END:STANDARD
BEGIN:DAYLIGHT
TZOFFSETFROM:+0100
TZOFFSETTO:+0200
TZNAME:CEST
DTSTART:20250330T010000
END:DAYLIGHT
BEGIN:STANDARD
TZOFFSETFROM:+0200
TZOFFSETTO:+0100
TZNAME:CET
DTSTART:20251026T010000
END:STANDARD
END:VTIMEZONE
BEGIN:VEVENT
DTSTART;TZID=Europe/Paris:20241130T080000
DTEND;TZID=Europe/Paris:20241206T170000
DTSTAMP:20260421T062506
CREATED:20241017T153147Z
LAST-MODIFIED:20241017T153148Z
UID:27142-1732953600-1733504400@www.cenresig.org
SUMMARY:SETTIMANA DELLA CULTURA TIBETANA A BOLOGNA
DESCRIPTION:SETTIMANA DELLA CULTURA TIBETANA A BOLOGNA\n\n\n\n\n\n\n30 novembre – 6 dicembre 2024\n\n\n\n\n\n\n\nCamplus Bononia\nVia Sante Vincenzi 49\, 40138 Bologna\nIngresso libero. Sono gradite donazioni. \n\n\n\n\n\n\n\n\nIn occasione della pubblicazione della biografia di\nJetsun Pema Ama “La Madre del Tibet”\, Sorella di S.S. il Dalai Lama\,\nsi terrà a Bologna la “Settimana della Cultura Tibetana”\,\norganizzata dalla Associazione Italia-Tibet e da Jamtse Ling\, Centro Rimé per il Dharma Non Settario. \n\n\n\n\nPER SCOPRIRE IL PROGRAMMA VAI A QUESTA PAGINA: \nhttps://www.associazionerime.org/attivita/settimana-della-cultura-tibetana-a-bologna-30-novembre-6-dicembre-2024
URL:https://www.cenresig.org/final/event/settimana-della-cultura-tibetana-a-bologna/
LOCATION:Bologna\, Via Sante Vincenzi 49\, 40138\, Bologna
CATEGORIES:Conferenze
END:VEVENT
END:VCALENDAR