BEGIN:VCALENDAR
VERSION:2.0
PRODID:-//Centro Studi Cenresig Bologna - ECPv6.15.11//NONSGML v1.0//EN
CALSCALE:GREGORIAN
METHOD:PUBLISH
X-WR-CALNAME:Centro Studi Cenresig Bologna
X-ORIGINAL-URL:https://www.cenresig.org/final
X-WR-CALDESC:Eventi per Centro Studi Cenresig Bologna
REFRESH-INTERVAL;VALUE=DURATION:PT1H
X-Robots-Tag:noindex
X-PUBLISHED-TTL:PT1H
BEGIN:VTIMEZONE
TZID:Europe/Paris
BEGIN:DAYLIGHT
TZOFFSETFROM:+0100
TZOFFSETTO:+0200
TZNAME:CEST
DTSTART:20250330T010000
END:DAYLIGHT
BEGIN:STANDARD
TZOFFSETFROM:+0200
TZOFFSETTO:+0100
TZNAME:CET
DTSTART:20251026T010000
END:STANDARD
BEGIN:DAYLIGHT
TZOFFSETFROM:+0100
TZOFFSETTO:+0200
TZNAME:CEST
DTSTART:20260329T010000
END:DAYLIGHT
BEGIN:STANDARD
TZOFFSETFROM:+0200
TZOFFSETTO:+0100
TZNAME:CET
DTSTART:20261025T010000
END:STANDARD
BEGIN:DAYLIGHT
TZOFFSETFROM:+0100
TZOFFSETTO:+0200
TZNAME:CEST
DTSTART:20270328T010000
END:DAYLIGHT
BEGIN:STANDARD
TZOFFSETFROM:+0200
TZOFFSETTO:+0100
TZNAME:CET
DTSTART:20271031T010000
END:STANDARD
END:VTIMEZONE
BEGIN:VEVENT
DTSTART;TZID=Europe/Paris:20260215T100000
DTEND;TZID=Europe/Paris:20260215T123000
DTSTAMP:20260423T114320
CREATED:20260109T102022Z
LAST-MODIFIED:20260203T123306Z
UID:27308-1771149600-1771158600@www.cenresig.org
SUMMARY:VEN. GHESCE TENZIN TEMPEL – IN PRESENZA
DESCRIPTION:DOMENICA 15 FEBBRAIO 2026\nil nostro amato Maestro Ven. Ghesce Tenzin Tempel terrà la prima parte dell’insegnamento: \n“Commentario sugli 8 versi dell’addestramento della mente\ne benefici del mantra di Cenresig”\n(la seconda parte il 28 e 29 marzo) \nDomenica dalle ore 10 alle 12:30 \n\nTraduce: Centrone \n\nPosti limitati\nSI RACCOMANDA LA PRENOTAZIONE SCRIVENDO A info.cenresig@gmail.com. \nVarrà la cronologia delle prenotazioni pervenute
URL:https://www.cenresig.org/final/event/ven-ghesce-jampa-gelek-in-presenza-6/
LOCATION:Centro Studi Cenresig\, Via dell'Idraulico 13\, Bologna\, 40129
CATEGORIES:Insegnamenti
ORGANIZER;CN="Centro Studi Cenresig":MAILTO:info.cenresig@gmail.com
END:VEVENT
END:VCALENDAR