BEGIN:VCALENDAR
VERSION:2.0
PRODID:-//Centro Studi Cenresig Bologna - ECPv6.15.11//NONSGML v1.0//EN
CALSCALE:GREGORIAN
METHOD:PUBLISH
X-ORIGINAL-URL:https://www.cenresig.org/final
X-WR-CALDESC:Eventi per Centro Studi Cenresig Bologna
REFRESH-INTERVAL;VALUE=DURATION:PT1H
X-Robots-Tag:noindex
X-PUBLISHED-TTL:PT1H
BEGIN:VTIMEZONE
TZID:UTC
BEGIN:STANDARD
TZOFFSETFROM:+0000
TZOFFSETTO:+0000
TZNAME:UTC
DTSTART:20170101T000000
END:STANDARD
END:VTIMEZONE
BEGIN:VEVENT
DTSTART;TZID=UTC:20181130T090000
DTEND;TZID=UTC:20181130T100000
DTSTAMP:20260423T133854
CREATED:20140303T181432Z
LAST-MODIFIED:20140303T181432Z
UID:25208-1543568400-1543572000@www.cenresig.org
SUMMARY:School of Creativity
DESCRIPTION:Working from home meant we could vary snack and coffee breaks\, change our desks or view\, goof off\, drink on the job\, even spend the day in pajamas\, and often meet to gossip or share ideas. On the other hand\, we bossed ourselves around\, set impossible goals\, and demanded longer hours than office jobs usually entail. It was the ultimate “flextime\,” in that it depended on how flexible we felt each day\, given deadlines\, distractions\, and workaholic crescendos.\nAristotle made several efforts to explain how moral conduct contributes to the good life for human agents\, including the Eqikh EudaimonhV and the Magna Moralia\, but the most complete surviving statement of his views on morality occurs in the Eqikh Nikomacoi .\nSuccessful people ask better questions.\nBut on Aristotle’s view\, the lives of individual human beings are invariably linked together in a social context. In the Peri PoliV he speculated about the origins of the state\, described and assessed the relative merits of various types of government\, and listed the obligations of the individual citizen. \nLuctus fermentum commodo\nWorking from home meant we could vary snack and coffee breaks\, change our desks or view\, goof off\, drink on the job\, even spend the day in pajamas\, and often meet to gossip or share ideas. On the other hand\, we bossed ourselves around\, set impossible goals\, and demanded longer hours than office jobs usually entail. It was the ultimate “flextime\,” in that it depended on how flexible we felt each day\, given deadlines\, distractions\, and workaholic crescendos. \nWorking from home meant we could vary snack and coffee breaks\, change our desks or view\, goof off\, drink on the job\, even spend the day in pajamas\, and often meet to gossip or share ideas. On the other hand\, we bossed ourselves around\, set impossible goals\, and demanded longer hours than office jobs usually entail. It was the ultimate “flextime\,” in that it depended on how flexible we felt each day\, given deadlines\, distractions\, and workaholic crescendos.
URL:https://www.cenresig.org/final/event/school-of-creativity-2-5-2-2-2018-11-30/
LOCATION:Church USA\, 90 Witherspoon St\, Louisville\, KY\, 40202\, United States
CATEGORIES:School,Seminars
ATTACH;FMTTYPE=:
ORGANIZER;CN="Peter Pan":MAILTO:junk@vamtam.com
END:VEVENT
BEGIN:VEVENT
DTSTART;TZID=UTC:20181030T090000
DTEND;TZID=UTC:20181030T100000
DTSTAMP:20260423T133854
CREATED:20140303T181432Z
LAST-MODIFIED:20140303T181432Z
UID:25203-1540890000-1540893600@www.cenresig.org
SUMMARY:School of Creativity
DESCRIPTION:Working from home meant we could vary snack and coffee breaks\, change our desks or view\, goof off\, drink on the job\, even spend the day in pajamas\, and often meet to gossip or share ideas. On the other hand\, we bossed ourselves around\, set impossible goals\, and demanded longer hours than office jobs usually entail. It was the ultimate “flextime\,” in that it depended on how flexible we felt each day\, given deadlines\, distractions\, and workaholic crescendos.\nAristotle made several efforts to explain how moral conduct contributes to the good life for human agents\, including the Eqikh EudaimonhV and the Magna Moralia\, but the most complete surviving statement of his views on morality occurs in the Eqikh Nikomacoi .\nSuccessful people ask better questions.\nBut on Aristotle’s view\, the lives of individual human beings are invariably linked together in a social context. In the Peri PoliV he speculated about the origins of the state\, described and assessed the relative merits of various types of government\, and listed the obligations of the individual citizen. \nLuctus fermentum commodo\nWorking from home meant we could vary snack and coffee breaks\, change our desks or view\, goof off\, drink on the job\, even spend the day in pajamas\, and often meet to gossip or share ideas. On the other hand\, we bossed ourselves around\, set impossible goals\, and demanded longer hours than office jobs usually entail. It was the ultimate “flextime\,” in that it depended on how flexible we felt each day\, given deadlines\, distractions\, and workaholic crescendos. \nWorking from home meant we could vary snack and coffee breaks\, change our desks or view\, goof off\, drink on the job\, even spend the day in pajamas\, and often meet to gossip or share ideas. On the other hand\, we bossed ourselves around\, set impossible goals\, and demanded longer hours than office jobs usually entail. It was the ultimate “flextime\,” in that it depended on how flexible we felt each day\, given deadlines\, distractions\, and workaholic crescendos.
URL:https://www.cenresig.org/final/event/school-of-creativity-2-5-2-2-2018-10-30/
LOCATION:Church USA\, 90 Witherspoon St\, Louisville\, KY\, 40202\, United States
CATEGORIES:School,Seminars
ATTACH;FMTTYPE=:
ORGANIZER;CN="Peter Pan":MAILTO:junk@vamtam.com
END:VEVENT
BEGIN:VEVENT
DTSTART;TZID=UTC:20180930T090000
DTEND;TZID=UTC:20180930T100000
DTSTAMP:20260423T133854
CREATED:20140303T181432Z
LAST-MODIFIED:20140303T181432Z
UID:25196-1538298000-1538301600@www.cenresig.org
SUMMARY:School of Creativity
DESCRIPTION:Working from home meant we could vary snack and coffee breaks\, change our desks or view\, goof off\, drink on the job\, even spend the day in pajamas\, and often meet to gossip or share ideas. On the other hand\, we bossed ourselves around\, set impossible goals\, and demanded longer hours than office jobs usually entail. It was the ultimate “flextime\,” in that it depended on how flexible we felt each day\, given deadlines\, distractions\, and workaholic crescendos.\nAristotle made several efforts to explain how moral conduct contributes to the good life for human agents\, including the Eqikh EudaimonhV and the Magna Moralia\, but the most complete surviving statement of his views on morality occurs in the Eqikh Nikomacoi .\nSuccessful people ask better questions.\nBut on Aristotle’s view\, the lives of individual human beings are invariably linked together in a social context. In the Peri PoliV he speculated about the origins of the state\, described and assessed the relative merits of various types of government\, and listed the obligations of the individual citizen. \nLuctus fermentum commodo\nWorking from home meant we could vary snack and coffee breaks\, change our desks or view\, goof off\, drink on the job\, even spend the day in pajamas\, and often meet to gossip or share ideas. On the other hand\, we bossed ourselves around\, set impossible goals\, and demanded longer hours than office jobs usually entail. It was the ultimate “flextime\,” in that it depended on how flexible we felt each day\, given deadlines\, distractions\, and workaholic crescendos. \nWorking from home meant we could vary snack and coffee breaks\, change our desks or view\, goof off\, drink on the job\, even spend the day in pajamas\, and often meet to gossip or share ideas. On the other hand\, we bossed ourselves around\, set impossible goals\, and demanded longer hours than office jobs usually entail. It was the ultimate “flextime\,” in that it depended on how flexible we felt each day\, given deadlines\, distractions\, and workaholic crescendos.
URL:https://www.cenresig.org/final/event/school-of-creativity-2-5-2-2-2018-09-30/
LOCATION:Church USA\, 90 Witherspoon St\, Louisville\, KY\, 40202\, United States
CATEGORIES:School,Seminars
ATTACH;FMTTYPE=:
ORGANIZER;CN="Peter Pan":MAILTO:junk@vamtam.com
END:VEVENT
END:VCALENDAR