BEGIN:VCALENDAR
VERSION:2.0
PRODID:-//Centro Studi Cenresig Bologna - ECPv6.15.11//NONSGML v1.0//EN
CALSCALE:GREGORIAN
METHOD:PUBLISH
X-WR-CALNAME:Centro Studi Cenresig Bologna
X-ORIGINAL-URL:https://www.cenresig.org/final
X-WR-CALDESC:Eventi per Centro Studi Cenresig Bologna
REFRESH-INTERVAL;VALUE=DURATION:PT1H
X-Robots-Tag:noindex
X-PUBLISHED-TTL:PT1H
BEGIN:VTIMEZONE
TZID:Europe/Paris
BEGIN:DAYLIGHT
TZOFFSETFROM:+0100
TZOFFSETTO:+0200
TZNAME:CEST
DTSTART:20250330T010000
END:DAYLIGHT
BEGIN:STANDARD
TZOFFSETFROM:+0200
TZOFFSETTO:+0100
TZNAME:CET
DTSTART:20251026T010000
END:STANDARD
BEGIN:DAYLIGHT
TZOFFSETFROM:+0100
TZOFFSETTO:+0200
TZNAME:CEST
DTSTART:20260329T010000
END:DAYLIGHT
BEGIN:STANDARD
TZOFFSETFROM:+0200
TZOFFSETTO:+0100
TZNAME:CET
DTSTART:20261025T010000
END:STANDARD
BEGIN:DAYLIGHT
TZOFFSETFROM:+0100
TZOFFSETTO:+0200
TZNAME:CEST
DTSTART:20270328T010000
END:DAYLIGHT
BEGIN:STANDARD
TZOFFSETFROM:+0200
TZOFFSETTO:+0100
TZNAME:CET
DTSTART:20271031T010000
END:STANDARD
END:VTIMEZONE
BEGIN:VEVENT
DTSTART;TZID=Europe/Paris:20260523T100000
DTEND;TZID=Europe/Paris:20260523T170000
DTSTAMP:20260422T024006
CREATED:20251209T183935Z
LAST-MODIFIED:20260224T074057Z
UID:27293-1779530400-1779555600@www.cenresig.org
SUMMARY:ALLA SCOPERTA DEL BUDDISMO - IN PRESENZA
DESCRIPTION:23 MAGGIO 2026\n(intensivo IN PRESENZA nella nuova sede)\nRelatrice è Elena D’Agostino\n\n\n\nIntroduzione al Tantra\n\n\nIn questo corso\, affronteremo i punti essenziali della pratica del tantra: il rapporto corretto con un maestro tantrico\, le varie classi e tipi di tantra\, l!iniziazione\, i voti\, e i metodi speciali di meditazione\, come lo yoga della divinità. La definizione di tantra\, come funziona e perché è una forma potente di pratica e in cosa differiscono dai Sutra. Cercheremo di ottenere una panoramica delle quattro classi di tantra e Illustrare le spiegazioni di una semplice meditazione sulla divinità tratta dal kriya tantra. Il veicolo tantrico del buddhismo utilizza come base il principio della trasformazione delle nostre esperienze e della nostra realtà\, usando la visualizzazione\, i mantra\, e lo sviluppo della visione pura come metodi nel sentiero verso lo stato della piena illuminazione. \n\n\n\n\n\n\nGli orari potrebbero subire cambiamenti.\nTutte le date del percorso: CALENDARIO\nAlla Scoperta del Buddhismo è consigliato per chi ha già acquisito una certa familiarità con il buddhismo tibetano – partecipando a programmi introduttivi\, quali Cos’è il Buddhismo\, ABC della meditazione oppure avendo frequentato più insegnamenti con Lama tibetani o altri percorsi di studi buddhisti – e desidera acquisire una maggiore comprensione di questo sentiero spirituale e filosofico. Tuttavia il corso è aperto a tutti anche a coloro che hanno poca esperienza con la filosofia buddista.\nPer informazioni e prenotazioni scrivere a allascopertabuddismo@gmail.com
URL:https://www.cenresig.org/final/event/alla-scoperta-del-buddismo-in-presenza-4/
LOCATION:Centro Studi Cenresig\, Via dell'Idraulico 13\, Bologna\, 40129
CATEGORIES:Corsi,Programmi di studio
ORGANIZER;CN="Centro Studi Cenresig":MAILTO:info.cenresig@gmail.com
END:VEVENT
BEGIN:VEVENT
DTSTART;TZID=Europe/Paris:20260627T100000
DTEND;TZID=Europe/Paris:20260627T170000
DTSTAMP:20260422T024006
CREATED:20251209T184718Z
LAST-MODIFIED:20260224T074503Z
UID:27297-1782554400-1782579600@www.cenresig.org
SUMMARY:ALLA SCOPERTA DEL BUDDISMO - IN PRESENZA
DESCRIPTION:27 GIUGNO 2026\n(intensivo IN PRESENZA nella nuova sede)\nRelatrice è Elena D’Agostino\n\n\n\nIl Maestro spirituale e il rifugio nei Tre Gioielli\n\n\nIn questo incontro esamineremo l’importanza di affidarsi ad un Maestro spirituale\, indagheremo il ruolo e il rapporto corretto tra maestro e discepolo\, le qualità di un maestro e le qualità di uno studente. Come relazionarsi con un maestro per ottenere il massimo beneficio nella nostra vita spirituale\, come affrontare le sfide\nche si incontrano quando si entra in una relazione guru-discepolo e imparare a superarle con intelligenza e abilità. Il corso è dedicato a comprendere cosa significa\ndiventare buddhisti prendendo rifugio nei Tre Gioielli: il Buddha (la guida)\, il Dharma (la realizzazione del vero modo di esistere dei fenomeni)\, e il Sangha (la\ncomunità spirituale) e le pratiche essenziali associate al rifugio\, la porta per entrare nel sentiero buddhista. Scopriremo il vantaggio di prendere voti laici e il loro ruolo nel sostenere e migliorare la nostra crescita spirituale e vivere con una etica di responsabilità universale. \n\n\n\n\n\n\nGli orari potrebbero subire cambiamenti.\nTutte le date del percorso: CALENDARIO\nAlla Scoperta del Buddhismo è consigliato per chi ha già acquisito una certa familiarità con il buddhismo tibetano – partecipando a programmi introduttivi\, quali Cos’è il Buddhismo\, ABC della meditazione oppure avendo frequentato più insegnamenti con Lama tibetani o altri percorsi di studi buddhisti – e desidera acquisire una maggiore comprensione di questo sentiero spirituale e filosofico. Tuttavia il corso è aperto a tutti anche a coloro che hanno poca esperienza con la filosofia buddista.\nPer informazioni e prenotazioni scrivere a allascopertabuddismo@gmail.com
URL:https://www.cenresig.org/final/event/alla-scoperta-del-buddismo-in-presenza-6/
LOCATION:Centro Studi Cenresig\, Via dell'Idraulico 13\, Bologna\, 40129
CATEGORIES:Corsi,Programmi di studio
ORGANIZER;CN="Centro Studi Cenresig":MAILTO:info.cenresig@gmail.com
END:VEVENT
END:VCALENDAR