BEGIN:VCALENDAR
VERSION:2.0
PRODID:-//Centro Studi Cenresig Bologna - ECPv6.15.11//NONSGML v1.0//EN
CALSCALE:GREGORIAN
METHOD:PUBLISH
X-ORIGINAL-URL:https://www.cenresig.org/final
X-WR-CALDESC:Eventi per Centro Studi Cenresig Bologna
REFRESH-INTERVAL;VALUE=DURATION:PT1H
X-Robots-Tag:noindex
X-PUBLISHED-TTL:PT1H
BEGIN:VTIMEZONE
TZID:Europe/Paris
BEGIN:DAYLIGHT
TZOFFSETFROM:+0100
TZOFFSETTO:+0200
TZNAME:CEST
DTSTART:20240331T010000
END:DAYLIGHT
BEGIN:STANDARD
TZOFFSETFROM:+0200
TZOFFSETTO:+0100
TZNAME:CET
DTSTART:20241027T010000
END:STANDARD
BEGIN:DAYLIGHT
TZOFFSETFROM:+0100
TZOFFSETTO:+0200
TZNAME:CEST
DTSTART:20250330T010000
END:DAYLIGHT
BEGIN:STANDARD
TZOFFSETFROM:+0200
TZOFFSETTO:+0100
TZNAME:CET
DTSTART:20251026T010000
END:STANDARD
BEGIN:DAYLIGHT
TZOFFSETFROM:+0100
TZOFFSETTO:+0200
TZNAME:CEST
DTSTART:20260329T010000
END:DAYLIGHT
BEGIN:STANDARD
TZOFFSETFROM:+0200
TZOFFSETTO:+0100
TZNAME:CET
DTSTART:20261025T010000
END:STANDARD
END:VTIMEZONE
BEGIN:VEVENT
DTSTART;TZID=Europe/Paris:20250222T150000
DTEND;TZID=Europe/Paris:20250223T123000
DTSTAMP:20260422T105150
CREATED:20241230T162632Z
LAST-MODIFIED:20250213T081713Z
UID:27156-1740236400-1740313800@www.cenresig.org
SUMMARY:VEN. GHESCE TENZIN TEMPEL – IN PRESENZA
DESCRIPTION:SABATO 22 e DOMENICA 23 FEBBRAIO 2025\nil nostro amato Maestro Ven. Ghesce Tenzin Tempel terrà un insegnamento: \n“Karma\, cause e condizioni” \nSABATO h. 15/18\nDOMENICA h. 10/12:30 ca \nTraduce: Thea \nPosti limitati\nSI RACCOMANDA LA PRENOTAZIONE SCRIVENDO A info.cenresig@gmail.com.\nVarrà la cronologia delle prenotazioni pervenute
URL:https://www.cenresig.org/final/event/ven-ghesce-tenzin-tempel-in-presenza-7/
LOCATION:Centro Studi Cenresig\, Via dell'Idraulico 13\, Bologna\, 40129
CATEGORIES:Insegnamenti
ORGANIZER;CN="Centro Studi Cenresig":MAILTO:info.cenresig@gmail.com
END:VEVENT
END:VCALENDAR