BEGIN:VCALENDAR
VERSION:2.0
PRODID:-//Centro Studi Cenresig Bologna - ECPv6.15.11//NONSGML v1.0//EN
CALSCALE:GREGORIAN
METHOD:PUBLISH
X-WR-CALNAME:Centro Studi Cenresig Bologna
X-ORIGINAL-URL:https://www.cenresig.org/final
X-WR-CALDESC:Eventi per Centro Studi Cenresig Bologna
REFRESH-INTERVAL;VALUE=DURATION:PT1H
X-Robots-Tag:noindex
X-PUBLISHED-TTL:PT1H
BEGIN:VTIMEZONE
TZID:Europe/Paris
BEGIN:DAYLIGHT
TZOFFSETFROM:+0100
TZOFFSETTO:+0200
TZNAME:CEST
DTSTART:20240331T010000
END:DAYLIGHT
BEGIN:STANDARD
TZOFFSETFROM:+0200
TZOFFSETTO:+0100
TZNAME:CET
DTSTART:20241027T010000
END:STANDARD
BEGIN:DAYLIGHT
TZOFFSETFROM:+0100
TZOFFSETTO:+0200
TZNAME:CEST
DTSTART:20250330T010000
END:DAYLIGHT
BEGIN:STANDARD
TZOFFSETFROM:+0200
TZOFFSETTO:+0100
TZNAME:CET
DTSTART:20251026T010000
END:STANDARD
BEGIN:DAYLIGHT
TZOFFSETFROM:+0100
TZOFFSETTO:+0200
TZNAME:CEST
DTSTART:20260329T010000
END:DAYLIGHT
BEGIN:STANDARD
TZOFFSETFROM:+0200
TZOFFSETTO:+0100
TZNAME:CET
DTSTART:20261025T010000
END:STANDARD
END:VTIMEZONE
BEGIN:VEVENT
DTSTART;TZID=Europe/Paris:20250322T150000
DTEND;TZID=Europe/Paris:20250323T123000
DTSTAMP:20260422T092721
CREATED:20241230T162747Z
LAST-MODIFIED:20250305T171417Z
UID:27158-1742655600-1742733000@www.cenresig.org
SUMMARY:VEN. GHESCE JAMPA GELEK - IN PRESENZA
DESCRIPTION:SABATO 22 e DOMENICA 23 MARZO 2025\nIN PRESENZA\nil nostro amato Maestro Ven. Ghesce Jampa Gelek su\nAddestramento Mentale (parte 2) \nSABATO h. 15/18\nDOMENICA h. 10/12:30 ca \n\nTraduce: Lionetti \n\nPosti limitati\nSI RACCOMANDA LA PRENOTAZIONE SCRIVENDO A info.cenresig@gmail.com. \nVarrà la cronologia delle prenotazioni pervenute
URL:https://www.cenresig.org/final/event/ven-ghesce-jampa-gelek-in-presenza-3/
LOCATION:Centro Studi Cenresig\, Via dell'Idraulico 13\, Bologna\, 40129
CATEGORIES:Insegnamenti
ORGANIZER;CN="Centro Studi Cenresig":MAILTO:info.cenresig@gmail.com
END:VEVENT
END:VCALENDAR